BEGIN:VCALENDAR
VERSION:2.0
PRODID:-//Seminole Prevention Coalition - ECPv6.15.17.1//NONSGML v1.0//EN
CALSCALE:GREGORIAN
METHOD:PUBLISH
X-ORIGINAL-URL:https://www.seminolepreventioncoalition.org
X-WR-CALDESC:Events for Seminole Prevention Coalition
REFRESH-INTERVAL;VALUE=DURATION:PT1H
X-Robots-Tag:noindex
X-PUBLISHED-TTL:PT1H
BEGIN:VTIMEZONE
TZID:America/New_York
BEGIN:DAYLIGHT
TZOFFSETFROM:-0500
TZOFFSETTO:-0400
TZNAME:EDT
DTSTART:20170312T070000
END:DAYLIGHT
BEGIN:STANDARD
TZOFFSETFROM:-0400
TZOFFSETTO:-0500
TZNAME:EST
DTSTART:20171105T060000
END:STANDARD
BEGIN:DAYLIGHT
TZOFFSETFROM:-0500
TZOFFSETTO:-0400
TZNAME:EDT
DTSTART:20180311T070000
END:DAYLIGHT
BEGIN:STANDARD
TZOFFSETFROM:-0400
TZOFFSETTO:-0500
TZNAME:EST
DTSTART:20181104T060000
END:STANDARD
BEGIN:DAYLIGHT
TZOFFSETFROM:-0500
TZOFFSETTO:-0400
TZNAME:EDT
DTSTART:20190310T070000
END:DAYLIGHT
BEGIN:STANDARD
TZOFFSETFROM:-0400
TZOFFSETTO:-0500
TZNAME:EST
DTSTART:20191103T060000
END:STANDARD
END:VTIMEZONE
BEGIN:VEVENT
DTSTART;TZID=America/New_York:20180426T140000
DTEND;TZID=America/New_York:20180426T160000
DTSTAMP:20260423T081621
CREATED:20180313T122831Z
LAST-MODIFIED:20180313T122831Z
UID:597-1524751200-1524758400@www.seminolepreventioncoalition.org
SUMMARY:Opioid and Heroin Task Force Meeting
DESCRIPTION:Professional Development Center\, 2772 Depot Ave\, Sanford\, FL 32773
URL:https://www.seminolepreventioncoalition.org/event/opioid-and-heroin-task-force-meeting/
END:VEVENT
END:VCALENDAR