BEGIN:VCALENDAR
VERSION:2.0
PRODID:-//Seminole Prevention Coalition - ECPv6.15.17.1//NONSGML v1.0//EN
CALSCALE:GREGORIAN
METHOD:PUBLISH
X-WR-CALNAME:Seminole Prevention Coalition
X-ORIGINAL-URL:https://www.seminolepreventioncoalition.org
X-WR-CALDESC:Events for Seminole Prevention Coalition
REFRESH-INTERVAL;VALUE=DURATION:PT1H
X-Robots-Tag:noindex
X-PUBLISHED-TTL:PT1H
BEGIN:VTIMEZONE
TZID:America/New_York
BEGIN:DAYLIGHT
TZOFFSETFROM:-0500
TZOFFSETTO:-0400
TZNAME:EDT
DTSTART:20180311T070000
END:DAYLIGHT
BEGIN:STANDARD
TZOFFSETFROM:-0400
TZOFFSETTO:-0500
TZNAME:EST
DTSTART:20181104T060000
END:STANDARD
BEGIN:DAYLIGHT
TZOFFSETFROM:-0500
TZOFFSETTO:-0400
TZNAME:EDT
DTSTART:20190310T070000
END:DAYLIGHT
BEGIN:STANDARD
TZOFFSETFROM:-0400
TZOFFSETTO:-0500
TZNAME:EST
DTSTART:20191103T060000
END:STANDARD
BEGIN:DAYLIGHT
TZOFFSETFROM:-0500
TZOFFSETTO:-0400
TZNAME:EDT
DTSTART:20200308T070000
END:DAYLIGHT
BEGIN:STANDARD
TZOFFSETFROM:-0400
TZOFFSETTO:-0500
TZNAME:EST
DTSTART:20201101T060000
END:STANDARD
END:VTIMEZONE
BEGIN:VEVENT
DTSTART;TZID=America/New_York:20190816T100000
DTEND;TZID=America/New_York:20190816T120000
DTSTAMP:20260422T073336
CREATED:20190816T151232Z
LAST-MODIFIED:20190822T141336Z
UID:903-1565949600-1565956800@www.seminolepreventioncoalition.org
SUMMARY:Seminole Prevention Coalition Meeting
DESCRIPTION:
URL:https://www.seminolepreventioncoalition.org/event/seminole-prevention-coalition-meeting/
LOCATION:Sheriff’s Office\, 100 Eslinger Way\, Sanford\, FL\, United States
END:VEVENT
END:VCALENDAR