BEGIN:VCALENDAR
VERSION:2.0
PRODID:-//Seminole Prevention Coalition - ECPv6.15.17.1//NONSGML v1.0//EN
CALSCALE:GREGORIAN
METHOD:PUBLISH
X-WR-CALNAME:Seminole Prevention Coalition
X-ORIGINAL-URL:https://www.seminolepreventioncoalition.org
X-WR-CALDESC:Events for Seminole Prevention Coalition
REFRESH-INTERVAL;VALUE=DURATION:PT1H
X-Robots-Tag:noindex
X-PUBLISHED-TTL:PT1H
BEGIN:VTIMEZONE
TZID:America/New_York
BEGIN:DAYLIGHT
TZOFFSETFROM:-0500
TZOFFSETTO:-0400
TZNAME:EDT
DTSTART:20160313T070000
END:DAYLIGHT
BEGIN:STANDARD
TZOFFSETFROM:-0400
TZOFFSETTO:-0500
TZNAME:EST
DTSTART:20161106T060000
END:STANDARD
BEGIN:DAYLIGHT
TZOFFSETFROM:-0500
TZOFFSETTO:-0400
TZNAME:EDT
DTSTART:20170312T070000
END:DAYLIGHT
BEGIN:STANDARD
TZOFFSETFROM:-0400
TZOFFSETTO:-0500
TZNAME:EST
DTSTART:20171105T060000
END:STANDARD
BEGIN:DAYLIGHT
TZOFFSETFROM:-0500
TZOFFSETTO:-0400
TZNAME:EDT
DTSTART:20180311T070000
END:DAYLIGHT
BEGIN:STANDARD
TZOFFSETFROM:-0400
TZOFFSETTO:-0500
TZNAME:EST
DTSTART:20181104T060000
END:STANDARD
BEGIN:DAYLIGHT
TZOFFSETFROM:-0500
TZOFFSETTO:-0400
TZNAME:EDT
DTSTART:20190310T070000
END:DAYLIGHT
BEGIN:STANDARD
TZOFFSETFROM:-0400
TZOFFSETTO:-0500
TZNAME:EST
DTSTART:20191103T060000
END:STANDARD
END:VTIMEZONE
BEGIN:VEVENT
DTSTART;TZID=America/New_York:20180714T100000
DTEND;TZID=America/New_York:20180714T130000
DTSTAMP:20260422T183231
CREATED:20180529T125312Z
LAST-MODIFIED:20180529T125312Z
UID:761-1531562400-1531573200@www.seminolepreventioncoalition.org
SUMMARY:Back to School Resource Fair
DESCRIPTION:Lakewood Community Building \n200 West Warren Ave \nLongwood\, Fl \nRegister:Â http://www.planetreg.com/HERO2018
URL:https://www.seminolepreventioncoalition.org/event/back-to-school-resource-fair/
END:VEVENT
BEGIN:VEVENT
DTSTART;TZID=America/New_York:20180711T093000
DTEND;TZID=America/New_York:20180711T110000
DTSTAMP:20260422T183231
CREATED:20180626T131916Z
LAST-MODIFIED:20180626T131916Z
UID:798-1531301400-1531306800@www.seminolepreventioncoalition.org
SUMMARY:Child Abuse Prevention Task Force Meeting (CAPTF)
DESCRIPTION:Location: \nSeminole County Sheriff’s Office \n100 Eslinger Way \nSanford\, Fl \n2nd Floor Conference Room
URL:https://www.seminolepreventioncoalition.org/event/child-abuse-prevention-task-force-meeting-captf-3/
END:VEVENT
BEGIN:VEVENT
DTSTART;TZID=America/New_York:20180711T093000
DTEND;TZID=America/New_York:20180711T110000
DTSTAMP:20260422T183231
CREATED:20180525T202853Z
LAST-MODIFIED:20180525T202853Z
UID:749-1531301400-1531306800@www.seminolepreventioncoalition.org
SUMMARY:Children's Cabinet Meeting-Biology of Stress\, Science of Hope Movie Screening
DESCRIPTION:Please join us for the screening ofÂ Resilience â€“ The Biology of Stress & The Science of Hope. \nSpecial Guest:\nZack Gibson\, Chief Child Advocate & Director\, Office of Adoption & Child Protection Executive Office of the Governor \nWhen:Â  Â  Â  Â  Â July 11\, 2018\n9:30 â€“ 11:00 \nWhere:Â Â Â Â Â Â Â  Seminole Childrenâ€™s Cabinet meeting\n250 W. County Home Rd.\,\nSanford\, Fl \nFeel free to bring your lunch & a friend.
URL:https://www.seminolepreventioncoalition.org/event/childrens-cabinet-meeting-biology-of-stress-science-of-hope-movie-screening/
CATEGORIES:Meetings
END:VEVENT
BEGIN:VEVENT
DTSTART;TZID=America/New_York:20180628T180000
DTEND;TZID=America/New_York:20180628T200000
DTSTAMP:20260422T183231
CREATED:20180605T143136Z
LAST-MODIFIED:20180605T143136Z
UID:779-1530208800-1530216000@www.seminolepreventioncoalition.org
SUMMARY:Family Training Suicide Prevention
DESCRIPTION:Please click above for more information.
URL:https://www.seminolepreventioncoalition.org/event/family-training-suicide-prevention/
END:VEVENT
BEGIN:VEVENT
DTSTART;TZID=America/New_York:20180624T120000
DTEND;TZID=America/New_York:20180624T160000
DTSTAMP:20260422T183231
CREATED:20180515T154413Z
LAST-MODIFIED:20180607T151136Z
UID:736-1529841600-1529856000@www.seminolepreventioncoalition.org
SUMMARY:Men's Health Challenge
DESCRIPTION:Spring Meadows Seventh-day Adventist Church \n5783 N Ronald Reagan Blvd\, Sanford\, FL 32773 \n  \n \n  \n  \n 
URL:https://www.seminolepreventioncoalition.org/event/mens-health-challenge/
END:VEVENT
BEGIN:VEVENT
DTSTART;TZID=America/New_York:20180614T173000
DTEND;TZID=America/New_York:20180614T190000
DTSTAMP:20260422T183231
CREATED:20180525T203406Z
LAST-MODIFIED:20180525T203406Z
UID:754-1528997400-1529002800@www.seminolepreventioncoalition.org
SUMMARY:My Life Event
DESCRIPTION:
URL:https://www.seminolepreventioncoalition.org/event/my-life-event-3/
END:VEVENT
BEGIN:VEVENT
DTSTART;TZID=America/New_York:20180614T093000
DTEND;TZID=America/New_York:20180614T110000
DTSTAMP:20260422T183231
CREATED:20180510T154922Z
LAST-MODIFIED:20180510T154922Z
UID:729-1528968600-1528974000@www.seminolepreventioncoalition.org
SUMMARY:Child Abuse Prevention Task Force Meeting
DESCRIPTION:Seminole County Sheriff’s Office \n100 Eslinger Way \nSanford\, Fl \n2nd Floor Conference Room
URL:https://www.seminolepreventioncoalition.org/event/child-abuse-prevention-task-force-meeting/
END:VEVENT
BEGIN:VEVENT
DTSTART;TZID=America/New_York:20180613T093000
DTEND;TZID=America/New_York:20180613T110000
DTSTAMP:20260422T183231
CREATED:20180510T155100Z
LAST-MODIFIED:20180510T155100Z
UID:732-1528882200-1528887600@www.seminolepreventioncoalition.org
SUMMARY:Children's Cabinet of Seminole County Meeting
DESCRIPTION:SC Extension Services Auditorium \n250 W. County Home Road \nSanford\, Fl
URL:https://www.seminolepreventioncoalition.org/event/childrens-cabinet-of-seminole-county-meeting-2/
END:VEVENT
BEGIN:VEVENT
DTSTART;TZID=America/New_York:20180524T180000
DTEND;TZID=America/New_York:20180524T200000
DTSTAMP:20260422T183231
CREATED:20180509T183416Z
LAST-MODIFIED:20180509T183416Z
UID:726-1527184800-1527192000@www.seminolepreventioncoalition.org
SUMMARY:Youth-Led Panel for Mental Health Awareness
DESCRIPTION:
URL:https://www.seminolepreventioncoalition.org/event/youth-led-panel-for-mental-health-awareness/
CATEGORIES:Special Events
END:VEVENT
BEGIN:VEVENT
DTSTART;TZID=America/New_York:20180519T090000
DTEND;TZID=America/New_York:20180519T150000
DTSTAMP:20260422T183231
CREATED:20180228T191132Z
LAST-MODIFIED:20180327T184521Z
UID:561-1526720400-1526742000@www.seminolepreventioncoalition.org
SUMMARY:Teen Summit 2018: You)th Empowered!
DESCRIPTION:Location: Midway Safe Harbor -2405 Rightway Sanford\, Fl 32771 \nHosted by: SWAT Chapter (Students Working Against Tobacco) \nTheme: Tie-Dye \nSponsored by: Orlando Health\, Tobacco Free Seminole Coalition\, DOH-Seminole \n \n  \n 
URL:https://www.seminolepreventioncoalition.org/event/teen-summit-2018-youth-empowered/
END:VEVENT
BEGIN:VEVENT
DTSTART;TZID=America/New_York:20180510T173000
DTEND;TZID=America/New_York:20180510T190000
DTSTAMP:20260422T183231
CREATED:20180501T194236Z
LAST-MODIFIED:20180501T194236Z
UID:713-1525973400-1525978800@www.seminolepreventioncoalition.org
SUMMARY:My Life Seminole Event
DESCRIPTION:
URL:https://www.seminolepreventioncoalition.org/event/my-life-seminole-event/
CATEGORIES:Special Events
END:VEVENT
BEGIN:VEVENT
DTSTART;TZID=America/New_York:20180510T093000
DTEND;TZID=America/New_York:20180510T110000
DTSTAMP:20260422T183231
CREATED:20180503T174935Z
LAST-MODIFIED:20180503T174935Z
UID:721-1525944600-1525950000@www.seminolepreventioncoalition.org
SUMMARY:Child Abuse Prevention Task Force Meeting (CAPTF)
DESCRIPTION:Seminole County Sheriff’s Office \n100 Eslinger Way \nSanford\, FL \n2nd floor CPS large conference room
URL:https://www.seminolepreventioncoalition.org/event/child-abuse-prevention-task-force-meeting-captf-2/
END:VEVENT
BEGIN:VEVENT
DTSTART;TZID=America/New_York:20180509T093000
DTEND;TZID=America/New_York:20180509T230000
DTSTAMP:20260422T183231
CREATED:20180503T175213Z
LAST-MODIFIED:20180503T175213Z
UID:723-1525858200-1525906800@www.seminolepreventioncoalition.org
SUMMARY:Children's Cabinet of Seminole County Meeting
DESCRIPTION:SC Extension Services Auditorium \n250 W. County Home Road \nSanford\, Fl
URL:https://www.seminolepreventioncoalition.org/event/childrens-cabinet-of-seminole-county-meeting/
END:VEVENT
BEGIN:VEVENT
DTSTART;TZID=America/New_York:20180505T110000
DTEND;TZID=America/New_York:20180505T160000
DTSTAMP:20260422T183231
CREATED:20180228T190026Z
LAST-MODIFIED:20180228T190026Z
UID:559-1525518000-1525536000@www.seminolepreventioncoalition.org
SUMMARY:Safe Kids Day
DESCRIPTION:Location: Seminole Town Center
URL:https://www.seminolepreventioncoalition.org/event/safe-kids-day/
END:VEVENT
BEGIN:VEVENT
DTSTART;VALUE=DATE:20180428
DTEND;VALUE=DATE:20180429
DTSTAMP:20260422T183231
CREATED:20180228T183326Z
LAST-MODIFIED:20180228T183326Z
UID:550-1524873600-1524959999@www.seminolepreventioncoalition.org
SUMMARY:Pitch your Pills-National DEA Take-Back Day
DESCRIPTION:More information coming
URL:https://www.seminolepreventioncoalition.org/event/pitch-your-pills-national-dea-take-back-day/
END:VEVENT
BEGIN:VEVENT
DTSTART;TZID=America/New_York:20180426T140000
DTEND;TZID=America/New_York:20180426T160000
DTSTAMP:20260422T183231
CREATED:20180313T122831Z
LAST-MODIFIED:20180313T122831Z
UID:597-1524751200-1524758400@www.seminolepreventioncoalition.org
SUMMARY:Opioid and Heroin Task Force Meeting
DESCRIPTION:Professional Development Center\, 2772 Depot Ave\, Sanford\, FL 32773
URL:https://www.seminolepreventioncoalition.org/event/opioid-and-heroin-task-force-meeting/
END:VEVENT
BEGIN:VEVENT
DTSTART;TZID=America/New_York:20180413T100000
DTEND;TZID=America/New_York:20180413T120000
DTSTAMP:20260422T183231
CREATED:20180228T164031Z
LAST-MODIFIED:20180228T164622Z
UID:525-1523613600-1523620800@www.seminolepreventioncoalition.org
SUMMARY:Coalition Meeting
DESCRIPTION:First floor community room
URL:https://www.seminolepreventioncoalition.org/event/coalition-meeting-3/
LOCATION:Sheriff’s Office\, 100 Eslinger Way\, Sanford\, FL\, United States
END:VEVENT
BEGIN:VEVENT
DTSTART;TZID=America/New_York:20180412T173000
DTEND;TZID=America/New_York:20180412T190000
DTSTAMP:20260422T183231
CREATED:20180328T132927Z
LAST-MODIFIED:20180328T132927Z
UID:647-1523554200-1523559600@www.seminolepreventioncoalition.org
SUMMARY:My Life Event
DESCRIPTION:
URL:https://www.seminolepreventioncoalition.org/event/my-life-event-2/
END:VEVENT
BEGIN:VEVENT
DTSTART;TZID=America/New_York:20180412T093000
DTEND;TZID=America/New_York:20180412T110000
DTSTAMP:20260422T183231
CREATED:20180228T182732Z
LAST-MODIFIED:20180228T182732Z
UID:545-1523525400-1523530800@www.seminolepreventioncoalition.org
SUMMARY:Child Abuse Prevention Task Force (CAPTF) Meeting
DESCRIPTION:2nd floor CPS large conference room
URL:https://www.seminolepreventioncoalition.org/event/child-abuse-prevention-task-force-captf-meeting/
LOCATION:Sheriff’s Office\, 100 Eslinger Way\, Sanford\, FL\, United States
END:VEVENT
BEGIN:VEVENT
DTSTART;TZID=America/New_York:20180412T090000
DTEND;TZID=America/New_York:20180412T150000
DTSTAMP:20260422T183231
CREATED:20180228T183114Z
LAST-MODIFIED:20180228T183114Z
UID:547-1523523600-1523545200@www.seminolepreventioncoalition.org
SUMMARY:Healthy Start Annual Baby Shower & Education Seminar
DESCRIPTION:
URL:https://www.seminolepreventioncoalition.org/event/healthy-start-annual-baby-shower-education-seminar/
END:VEVENT
BEGIN:VEVENT
DTSTART;TZID=America/New_York:20180411T093000
DTEND;TZID=America/New_York:20180411T113000
DTSTAMP:20260422T183231
CREATED:20180228T182544Z
LAST-MODIFIED:20180228T182544Z
UID:543-1523439000-1523446200@www.seminolepreventioncoalition.org
SUMMARY:Children's Cabinet Meeting
DESCRIPTION:Location TBA
URL:https://www.seminolepreventioncoalition.org/event/childrens-cabinet-meeting-2/
END:VEVENT
BEGIN:VEVENT
DTSTART;TZID=America/New_York:20180408T170000
DTEND;TZID=America/New_York:20180408T200000
DTSTAMP:20260422T183231
CREATED:20180314T163623Z
LAST-MODIFIED:20180314T163623Z
UID:599-1523206800-1523217600@www.seminolepreventioncoalition.org
SUMMARY:Light of Hope Ceremony
DESCRIPTION:Cranes Roost Park \nAltamonte Springs\, Fl \n5:00pm-5:30pm Lights and Siren Procession \n6:00pm-8:00pm Ceremony \n 
URL:https://www.seminolepreventioncoalition.org/event/light-of-hope-ceremony/
END:VEVENT
BEGIN:VEVENT
DTSTART;TZID=America/New_York:20180406T100000
DTEND;TZID=America/New_York:20180406T110000
DTSTAMP:20260422T183231
CREATED:20180327T153605Z
LAST-MODIFIED:20180327T153605Z
UID:637-1523008800-1523012400@www.seminolepreventioncoalition.org
SUMMARY:Manicure Movement Kickoff
DESCRIPTION:
URL:https://www.seminolepreventioncoalition.org/event/manicure-movement-kickoff/
END:VEVENT
BEGIN:VEVENT
DTSTART;TZID=America/New_York:20180402T100000
DTEND;TZID=America/New_York:20180402T140000
DTSTAMP:20260422T183231
CREATED:20180228T184807Z
LAST-MODIFIED:20180228T184807Z
UID:554-1522663200-1522677600@www.seminolepreventioncoalition.org
SUMMARY:Tru-Valu Drugs 13th Annual Health Fair
DESCRIPTION:503 E 1st Street\, Sanford\, Fl 32771 \nFree event \nOpen to the public \nFree Screenings: Blood pressure and Glucose \nBuy 1 get 1 free compression stockings \nRaffles \nFree giveaways \nImprove your health and life \nFree samples \nMeet local providers \nInsurance adviser to answer any insurance questions
URL:https://www.seminolepreventioncoalition.org/event/tru-valu-drugs-13th-annual-health-fair/
END:VEVENT
BEGIN:VEVENT
DTSTART;TZID=America/New_York:20180329T180000
DTEND;TZID=America/New_York:20180329T190000
DTSTAMP:20260422T183231
CREATED:20180315T153852Z
LAST-MODIFIED:20180315T153852Z
UID:602-1522346400-1522350000@www.seminolepreventioncoalition.org
SUMMARY:Seminole County-2nd Annual School Safety & Security Forum
DESCRIPTION:WHERE:Â  Â  Â  Â  Winter Springs High School\, Auditorium \n130 Tuskawilla Rd.\, Winter Springs\, FL 32708 \n  \nParents can submit their School Safety & Security Questions & Topics in advance here:Â Â bit.ly/SafetyForum2018Â  \n  \n 
URL:https://www.seminolepreventioncoalition.org/event/seminole-county-2nd-annual-school-safety-security-forum/
END:VEVENT
BEGIN:VEVENT
DTSTART;TZID=America/New_York:20180314T093000
DTEND;TZID=America/New_York:20180314T113000
DTSTAMP:20260422T183231
CREATED:20180228T164853Z
LAST-MODIFIED:20180228T164853Z
UID:530-1521019800-1521027000@www.seminolepreventioncoalition.org
SUMMARY:Children's Cabinet Meeting
DESCRIPTION:1865 FL-436\, Winter Park\, FL 32792
URL:https://www.seminolepreventioncoalition.org/event/childrens-cabinet-meeting/
LOCATION:Herzig University
END:VEVENT
BEGIN:VEVENT
DTSTART;TZID=America/New_York:20180308T173000
DTEND;TZID=America/New_York:20180308T190000
DTSTAMP:20260422T183231
CREATED:20180228T165554Z
LAST-MODIFIED:20180228T170205Z
UID:535-1520530200-1520535600@www.seminolepreventioncoalition.org
SUMMARY:My Life Event
DESCRIPTION:MY_LIFE_Seminole_County_march_2018
URL:https://www.seminolepreventioncoalition.org/event/my-life-event/
END:VEVENT
BEGIN:VEVENT
DTSTART;TZID=America/New_York:20180308T093000
DTEND;TZID=America/New_York:20180308T110000
DTSTAMP:20260422T183231
CREATED:20180228T165119Z
LAST-MODIFIED:20180228T165119Z
UID:532-1520501400-1520506800@www.seminolepreventioncoalition.org
SUMMARY:Child Abuse Prevention Task Force Meeting (CAPTF)
DESCRIPTION:2nd floor CPS large conference room
URL:https://www.seminolepreventioncoalition.org/event/child-abuse-prevention-task-force-meeting-captf/
LOCATION:Sheriff’s Office\, 100 Eslinger Way\, Sanford\, FL\, United States
END:VEVENT
BEGIN:VEVENT
DTSTART;TZID=America/New_York:20180304T100000
DTEND;TZID=America/New_York:20180304T140000
DTSTAMP:20260422T183231
CREATED:20180228T185348Z
LAST-MODIFIED:20180228T185348Z
UID:556-1520157600-1520172000@www.seminolepreventioncoalition.org
SUMMARY:Spring Meadows Community Health Fair
DESCRIPTION:
URL:https://www.seminolepreventioncoalition.org/event/spring-meadows-community-health-fair/
END:VEVENT
BEGIN:VEVENT
DTSTART;TZID=America/New_York:20171208T100000
DTEND;TZID=America/New_York:20171208T120000
DTSTAMP:20260422T183231
CREATED:20161212T171817Z
LAST-MODIFIED:20161212T171817Z
UID:423-1512727200-1512734400@www.seminolepreventioncoalition.org
SUMMARY:Coalition Meeting
DESCRIPTION:First Floor Community Room
URL:https://www.seminolepreventioncoalition.org/event/coalition-meeting-6/
LOCATION:Sheriff’s Office\, 100 Eslinger Way\, Sanford\, FL\, United States
END:VEVENT
END:VCALENDAR