BEGIN:VCALENDAR
VERSION:2.0
PRODID:-//Seminole Prevention Coalition - ECPv6.15.17.1//NONSGML v1.0//EN
CALSCALE:GREGORIAN
METHOD:PUBLISH
X-WR-CALNAME:Seminole Prevention Coalition
X-ORIGINAL-URL:https://www.seminolepreventioncoalition.org
X-WR-CALDESC:Events for Seminole Prevention Coalition
REFRESH-INTERVAL;VALUE=DURATION:PT1H
X-Robots-Tag:noindex
X-PUBLISHED-TTL:PT1H
BEGIN:VTIMEZONE
TZID:America/New_York
BEGIN:DAYLIGHT
TZOFFSETFROM:-0500
TZOFFSETTO:-0400
TZNAME:EDT
DTSTART:20180311T070000
END:DAYLIGHT
BEGIN:STANDARD
TZOFFSETFROM:-0400
TZOFFSETTO:-0500
TZNAME:EST
DTSTART:20181104T060000
END:STANDARD
BEGIN:DAYLIGHT
TZOFFSETFROM:-0500
TZOFFSETTO:-0400
TZNAME:EDT
DTSTART:20190310T070000
END:DAYLIGHT
BEGIN:STANDARD
TZOFFSETFROM:-0400
TZOFFSETTO:-0500
TZNAME:EST
DTSTART:20191103T060000
END:STANDARD
BEGIN:DAYLIGHT
TZOFFSETFROM:-0500
TZOFFSETTO:-0400
TZNAME:EDT
DTSTART:20200308T070000
END:DAYLIGHT
BEGIN:STANDARD
TZOFFSETFROM:-0400
TZOFFSETTO:-0500
TZNAME:EST
DTSTART:20201101T060000
END:STANDARD
END:VTIMEZONE
BEGIN:VEVENT
DTSTART;TZID=America/New_York:20190921T100000
DTEND;TZID=America/New_York:20190921T140000
DTSTAMP:20260422T183835
CREATED:20190822T140944Z
LAST-MODIFIED:20190822T140944Z
UID:900-1569060000-1569074400@www.seminolepreventioncoalition.org
SUMMARY:Recovery Symposium
DESCRIPTION:
URL:https://www.seminolepreventioncoalition.org/event/recovery-symposium/
LOCATION:Calvary Church
END:VEVENT
BEGIN:VEVENT
DTSTART;TZID=America/New_York:20191001T170000
DTEND;TZID=America/New_York:20191001T200000
DTSTAMP:20260422T183835
CREATED:20190822T141126Z
LAST-MODIFIED:20190822T141126Z
UID:905-1569949200-1569960000@www.seminolepreventioncoalition.org
SUMMARY:National Night Out
DESCRIPTION:
URL:https://www.seminolepreventioncoalition.org/event/national-night-out/
LOCATION:Fort Mellon Park
END:VEVENT
BEGIN:VEVENT
DTSTART;VALUE=DATE:20191214
DTEND;VALUE=DATE:20191215
DTSTAMP:20260422T183835
CREATED:20191202T173145Z
LAST-MODIFIED:20191202T173145Z
UID:945-1576281600-1576367999@www.seminolepreventioncoalition.org
SUMMARY:Seminole County Sheriff's Office Christmas Village
DESCRIPTION:
URL:https://www.seminolepreventioncoalition.org/event/seminole-county-sheriffs-office-christmas-village/
END:VEVENT
BEGIN:VEVENT
DTSTART;TZID=America/New_York:20191214T080000
DTEND;TZID=America/New_York:20191214T100000
DTSTAMP:20260422T183835
CREATED:20191202T173310Z
LAST-MODIFIED:20191202T173310Z
UID:947-1576310400-1576317600@www.seminolepreventioncoalition.org
SUMMARY:Candy Cane 5k
DESCRIPTION:
URL:https://www.seminolepreventioncoalition.org/event/candy-cane-5k/
END:VEVENT
END:VCALENDAR