BEGIN:VCALENDAR
VERSION:2.0
PRODID:-//Seminole Prevention Coalition - ECPv6.15.17.1//NONSGML v1.0//EN
CALSCALE:GREGORIAN
METHOD:PUBLISH
X-WR-CALNAME:Seminole Prevention Coalition
X-ORIGINAL-URL:https://www.seminolepreventioncoalition.org
X-WR-CALDESC:Events for Seminole Prevention Coalition
REFRESH-INTERVAL;VALUE=DURATION:PT1H
X-Robots-Tag:noindex
X-PUBLISHED-TTL:PT1H
BEGIN:VTIMEZONE
TZID:America/New_York
BEGIN:DAYLIGHT
TZOFFSETFROM:-0500
TZOFFSETTO:-0400
TZNAME:EDT
DTSTART:20160313T070000
END:DAYLIGHT
BEGIN:STANDARD
TZOFFSETFROM:-0400
TZOFFSETTO:-0500
TZNAME:EST
DTSTART:20161106T060000
END:STANDARD
BEGIN:DAYLIGHT
TZOFFSETFROM:-0500
TZOFFSETTO:-0400
TZNAME:EDT
DTSTART:20170312T070000
END:DAYLIGHT
BEGIN:STANDARD
TZOFFSETFROM:-0400
TZOFFSETTO:-0500
TZNAME:EST
DTSTART:20171105T060000
END:STANDARD
BEGIN:DAYLIGHT
TZOFFSETFROM:-0500
TZOFFSETTO:-0400
TZNAME:EDT
DTSTART:20180311T070000
END:DAYLIGHT
BEGIN:STANDARD
TZOFFSETFROM:-0400
TZOFFSETTO:-0500
TZNAME:EST
DTSTART:20181104T060000
END:STANDARD
END:VTIMEZONE
BEGIN:VEVENT
DTSTART;TZID=America/New_York:20170608T093000
DTEND;TZID=America/New_York:20170608T110000
DTSTAMP:20260424T013343
CREATED:20170607T192311Z
LAST-MODIFIED:20170607T192311Z
UID:472-1496914200-1496919600@www.seminolepreventioncoalition.org
SUMMARY:CAPTF
DESCRIPTION:Child Abuse Prevention Task Force Meeting
URL:https://www.seminolepreventioncoalition.org/event/captf-4/
LOCATION:Sheriff’s Office\, 100 Eslinger Way\, Sanford\, FL\, United States
END:VEVENT
BEGIN:VEVENT
DTSTART;TZID=America/New_York:20170614T093000
DTEND;TZID=America/New_York:20170614T110000
DTSTAMP:20260424T013343
CREATED:20170607T193024Z
LAST-MODIFIED:20170607T193024Z
UID:474-1497432600-1497438000@www.seminolepreventioncoalition.org
SUMMARY:Children's Cabinet
DESCRIPTION:Back at original location…County Extension Services Auditorium \n250 W. County Home Road in Sanford
URL:https://www.seminolepreventioncoalition.org/event/childrens-cabinet-5/
LOCATION:Seminole County Agriculture Extension\, 250 West County Home Road\, Sanford\, Florida\, 32773\, United States
END:VEVENT
END:VCALENDAR